BEGIN:VCALENDAR
VERSION:2.0
PRODID:Recolha de lixo Grosso
X-WR-CALNAME:Recolha de lixo Grosso
X-WR-TIMEZONE:Europe/Lisbon
X-PUBLISHED-TTL:P1W
BEGIN:VTIMEZONE
TZID:Europe/Lisbon
X-LIC-LOCATION:Europe/Lisbon
END:VTIMEZONE
BEGIN:VEVENT
UID:69e8b71ad193c
DTSTART;VALUE=DATE:20220629
SEQUENCE:0
TRANSP:OPAQUE
DTEND;VALUE=DATE:20220630
SUMMARY:Recolha de lixo Grosso
CLASS:PUBLIC
DESCRIPTION:Esta autarquia vem por este meio informar que a recolha de res
 íduos volumosos desta freguesia para o ano de 2022 vai se efetuar a parti
 r das 14h dos dias 29 de Junho e 09 de Novembro. Os interessados devem co
 locar os seus resíduos mais volumosos nos dias mencionados\, junta da sua
  porta.  
X-MICROSOFT-CDO-ALLDAYEVENT:TRUE
DTSTAMP:20260422T115506Z
END:VEVENT
END:VCALENDAR