BEGIN:VCALENDAR
VERSION:2.0
PRODID:Zumba
X-WR-CALNAME:Zumba
X-WR-TIMEZONE:Europe/Lisbon
X-PUBLISHED-TTL:P1W
BEGIN:VTIMEZONE
TZID:Europe/Lisbon
X-LIC-LOCATION:Europe/Lisbon
END:VTIMEZONE
BEGIN:VEVENT
UID:69e8b8f516362
DTSTART;VALUE=DATE:20230501
SEQUENCE:0
TRANSP:OPAQUE
DTEND;VALUE=DATE:20230502
SUMMARY:Zumba
CLASS:PUBLIC
DESCRIPTION:.
X-MICROSOFT-CDO-ALLDAYEVENT:TRUE
DTSTAMP:20260422T120301Z
END:VEVENT
END:VCALENDAR