BEGIN:VCALENDAR
VERSION:2.0
PRODID:Serviço de Enfermagem
X-WR-CALNAME:Serviço de Enfermagem
X-WR-TIMEZONE:Europe/Lisbon
X-PUBLISHED-TTL:P1W
BEGIN:VTIMEZONE
TZID:Europe/Lisbon
X-LIC-LOCATION:Europe/Lisbon
END:VTIMEZONE
BEGIN:VEVENT
UID:69e8b7bcc776c
DTSTART;VALUE=DATE:20230401
SEQUENCE:0
TRANSP:OPAQUE
DTEND;VALUE=DATE:20230402
SUMMARY:Serviço de Enfermagem
CLASS:PUBLIC
DESCRIPTION:.
X-MICROSOFT-CDO-ALLDAYEVENT:TRUE
DTSTAMP:20260422T115748Z
END:VEVENT
END:VCALENDAR